BEGIN:VCALENDAR
VERSION:1.0
BEGIN:VEVENT
UID:i-event-43847
SUMMARY: Event Westcrest Park- Spring Foraging Celebration
DESCRIPTION;ENCODING=QUOTED-PRINTABLE:Join Dirt Corps this May to learn about foraging in the urban landscape and help us care for this section of the West Duwamish Greenbelt. We&#x27;ll be learning about human-appreciated plants in the PNW, and how biodiversity in Westcrest Park relates to this effort. We&#x27;ll then be caring for our restoration area by applying mulch around the native plants and trees, removing weeds (looking at you, blackberry! a yummy but gnarly invasive species), and performing other important kinds of landscape maintenance. We hope to see you there!
LOCATION:Westcrest Park
DTSTART:20260509T090000
DTEND:20260509T120000
END:VEVENT
END:VCALENDAR
