BEGIN:VCALENDAR
VERSION:1.0
BEGIN:VEVENT
UID:i-event-43851
SUMMARY: Event Westcrest Park- Pollinator Pride Celebration
DESCRIPTION;ENCODING=QUOTED-PRINTABLE:oin Dirt Corps this June to celebrate Polinator Pride and help us care for this section of the West Duwamish Greenbelt. We&#x27;ll be learning about all the beautiful, colorful, and resilient native pollinators and how biodiversity in Westcrest Park is important to keeping our communities vibrant and healthy. We&#x27;ll then care for our restoration area by applying mulch around the native plants and trees, removing weeds (looking at you, blackberry! a yummy but gnarly invasive species), and performing other important landscape maintenance. We hope to see you there!
LOCATION:Westcrest Park
DTSTART:20260613T090000
DTEND:20260613T120000
END:VEVENT
END:VCALENDAR
