BEGIN:VCALENDAR
VERSION:1.0
BEGIN:VEVENT
UID:i-event-43895
SUMMARY: Event April Saturday Restoration Sessons
DESCRIPTION;ENCODING=QUOTED-PRINTABLE:Forest stewards &amp; community work at their favorite restoration sites during SATURDAY work sessions during FEBRUARY 2026.
LOCATION:Lincoln Park
DTSTART:20260425T090000
DTEND:20260425T120000
END:VEVENT
END:VCALENDAR
