BEGIN:VCALENDAR
VERSION:1.0
BEGIN:VEVENT
UID:i-event-43896
SUMMARY: Event More Fun at the Pollinator Patch or Grass begone
DESCRIPTION;ENCODING=QUOTED-PRINTABLE:We are continuing our weeding program to get the Grass out of our Flower beds
LOCATION:Burke-Gilman Trail
DTSTART:20260427T090000
DTEND:20260427T123000
END:VEVENT
END:VCALENDAR
